BEGIN:VCALENDAR
VERSION:2.0
PRODID:-//HepTown Records - ECPv6.15.20//NONSGML v1.0//EN
CALSCALE:GREGORIAN
METHOD:PUBLISH
X-ORIGINAL-URL:https://www.heptownrecords.com
X-WR-CALDESC:Events for HepTown Records
REFRESH-INTERVAL;VALUE=DURATION:PT1H
X-Robots-Tag:noindex
X-PUBLISHED-TTL:PT1H
BEGIN:VTIMEZONE
TZID:Europe/Stockholm
BEGIN:DAYLIGHT
TZOFFSETFROM:+0100
TZOFFSETTO:+0200
TZNAME:CEST
DTSTART:20240331T010000
END:DAYLIGHT
BEGIN:STANDARD
TZOFFSETFROM:+0200
TZOFFSETTO:+0100
TZNAME:CET
DTSTART:20241027T010000
END:STANDARD
BEGIN:DAYLIGHT
TZOFFSETFROM:+0100
TZOFFSETTO:+0200
TZNAME:CEST
DTSTART:20250330T010000
END:DAYLIGHT
BEGIN:STANDARD
TZOFFSETFROM:+0200
TZOFFSETTO:+0100
TZNAME:CET
DTSTART:20251026T010000
END:STANDARD
BEGIN:DAYLIGHT
TZOFFSETFROM:+0100
TZOFFSETTO:+0200
TZNAME:CEST
DTSTART:20260329T010000
END:DAYLIGHT
BEGIN:STANDARD
TZOFFSETFROM:+0200
TZOFFSETTO:+0100
TZNAME:CET
DTSTART:20261025T010000
END:STANDARD
END:VTIMEZONE
BEGIN:VEVENT
DTSTART;TZID=Europe/Stockholm:20250412T100000
DTEND;TZID=Europe/Stockholm:20250412T160000
DTSTAMP:20260422T190842
CREATED:20240428T134845Z
LAST-MODIFIED:20250113T132510Z
UID:7399-1744452000-1744473600@www.heptownrecords.com
SUMMARY:Record Store Day 2025
DESCRIPTION:Welcome back for Record Store Day at HepCat Store the 12th of April 2025! as always a lot of interesting Record Store Day releases\, live music and food! Its party time!\nhttps://www.hepcat.se/record-store-day \nIt’s our pleasure to have Garage Bar serving burgers in their food truck!!! \n\nOpen: 10-16\nEntrance fee: Free\nHepCat Store\, Sankt Larsv 21\, Luns\, SE\nContact\, maps and bus routes: www.hepcat.se/contact-us \n\nMore events: https://www.hepcat.se/brands/hepcat-store \nBands playing live in the store\n\n11:00\n12:00\n13:00\n14:00\n15:00\n\nSend an email to info@hepcat.se if you are interested in playing this day. \nAnd of course we have Mangobeard in the house for some great fuzzy merch! A favorite 💥 \nhttps://www.hepcat.se/rsd\nhttps://www.hepcat.se \n\nHEPCAT STORE\nSankt Lars väg 21\n222 70 Lund\, Sweden. \nwww.hepcat.se/contact-us\n#recordstoreday #recordstoreday2024 #rsd #hepcatstore #BBQ #vinylrecords #lund #livemusic #lundcity #independentstore #heptownrecords
URL:https://www.heptownrecords.com/event/record-store-day-2025/
LOCATION:HepCat Store\, Sankt Lars väg 21\, Lund\, 22270\, SE
ATTACH;FMTTYPE=image/jpeg:https://media.heptownrecords.com/2024/04/7399_image_440566451_850897233749166_2699028912573660937_n.jpg
ORGANIZER;CN="HepCat Store":MAILTO:info@hepcat.se
END:VEVENT
BEGIN:VEVENT
DTSTART;TZID=Europe/Stockholm:20250524T100000
DTEND;TZID=Europe/Stockholm:20250524T160000
DTSTAMP:20260422T190842
CREATED:20250320T145706Z
LAST-MODIFIED:20250320T145839Z
UID:7519-1748080800-1748102400@www.heptownrecords.com
SUMMARY:HepCat Day in Lund 2025
DESCRIPTION:Hepcat Day is back\, and we’re making 2025 better than ever. On May 24th\, we’re turning Sankt Lars into a celebration of music\, craftsmanship\, and community. Expect live music\, quality clothing\, great food\, and a gathering of amazing people. \nWe’re excited to welcome some of our favorite brands\, including Red Wing\, O.P Jewellery\, Bright Shoemakers\, and Lunds Surf Club\, along with many more to be announced. Plus\, this year we’re adding a small flea market\, giving you the chance to find unique pieces to take home. \nLive Music will set the tone for the day\, with performances from J.Tex and more artists to be announced. \nOf course\, no Hepcat Day would be complete without great food. Garage Bar from Höganäs returns with their legendary burgers\, and this year\, we’re also joined by our friends from Hos Talevski in Lund. \n\nDate: May 24th (10:00 – 16:00)\nEntrance: Free\nAddress: Hepcat Store\, Sankt Larsv 21\, Lund\, Sweden\nhttps://maps.app.goo.gl/Ac4ipCRc9iyi1us56\nhttps://www.hepcat.se/\n\nMore events: https://www.hepcat.se/brands/hepcat-store \n\nThe Lineup\nBrands:\n– Allevol (special collab with Hepcat Store)\n– American Trails Magazine\n– Bright Shoemakers\n– Fleurs De Bagne\n– Lunds Surf Club\n– Men’s File\n– Micky Oye\n– O.P Jewellery\n– Pendleton\n– Red Wing\n– Resteröds\nMore to be announced \nLive Music:\n– J.Tex\n– Honeyboy Slim & The Bad Habits\nMore to be announced \nFood:\n– Garage Bar\n– Hos Talevski\n– Broder Jakobs\nMore to be announced \nSpecial Guests:\n– Underground Barbershop\n– Jonte\n– Nordic Wellness\nMore to be announced \nWhat is Hepcat Day?\nHepcat Day began as a simple gathering of friends from around the world\, celebrating a shared passion for craftsmanship\, music\, and timeless style. Over the years\, it has grown into a tradition\, bringing together people\, stories\, and beautiful cars and motorcycles\, all in the spirit of community. \nWe can’t wait to see old friends\, meet new ones\, and celebrate together. Join us for a day of good vibes and great company.
URL:https://www.heptownrecords.com/event/hepcat-day-in-lund-2025/
LOCATION:HepCat Store\, Sankt Lars väg 21\, Lund\, 22270\, SE
ATTACH;FMTTYPE=image/jpeg:https://media.heptownrecords.com/2025/03/7519_image_476827545_1057589246413296_6805152483823278736_n.jpg
END:VEVENT
END:VCALENDAR